BEGIN:VCALENDAR
VERSION:2.0
PRODID:-//wp-events-plugin.com//7.2.3.1//EN
TZID:Europe/Paris
X-WR-TIMEZONE:Europe/Paris
BEGIN:VEVENT
UID:4040@agenda24.fr
DTSTART;TZID=Europe/Paris:20241203T194500
DTEND;TZID=Europe/Paris:20241203T233000
DTSTAMP:20241030T091139Z
URL:https://agenda24.fr/evenements/cine-expo-moonage-daydream/
SUMMARY:Ciné-expo - Moonage Daydream
DESCRIPTION:
CATEGORIES:Cinéma
LOCATION:CGR\, Place Francheville\, Périgueux\, France
GEO:45.1823755;0.71827237
X-APPLE-STRUCTURED-LOCATION;VALUE=URI;X-ADDRESS=Place Francheville\, Périg
 ueux\, France;X-APPLE-RADIUS=100;X-TITLE=CGR:geo:45.1823755,0.71827237
END:VEVENT
BEGIN:VTIMEZONE
TZID:Europe/Paris
X-LIC-LOCATION:Europe/Paris
BEGIN:STANDARD
DTSTART:20241027T020000
TZOFFSETFROM:+0200
TZOFFSETTO:+0100
TZNAME:CET
END:STANDARD
END:VTIMEZONE
END:VCALENDAR