BEGIN:VCALENDAR
VERSION:2.0
PRODID:-//wp-events-plugin.com//7.2.3.1//EN
TZID:Europe/Paris
X-WR-TIMEZONE:Europe/Paris
BEGIN:VEVENT
UID:8325@agenda24.fr
DTSTART;TZID=Europe/Paris:20250912T180000
DTEND;TZID=Europe/Paris:20250912T220000
DTSTAMP:20250907T171005Z
URL:https://agenda24.fr/evenements/cine-et-concert-tsigane/
SUMMARY:Ciné et concert "Zorya"
DESCRIPTION:Avec Tony Gatlif\, le cinéma rencontre la musique !\n📽 Rdv 
 à 18h au Cinéma Le Clair pour la projection du film ANGE puis nous parto
 ns ensemble en direction du Chat Pline pour rester dans l’ambiance de la
  musique tzigane avec le groupe ZORYA - Duo de musiques tziganes - avec Ad
 èle Salomé (violon et chant) &amp\; Marcello Marella (contrebasse et cha
 nt)\n🎻Début du concert : 20h30 au Chat Pline ! (https://chatpline.fr/)
 \n💃Venez nombreu·se·s célébrer cette première collaboration !
ATTACH;FMTTYPE=image/jpeg:https://agenda24.fr/wp-content/uploads/2025/09/C
 ine-concert-CHATPLINE2.jpg
CATEGORIES:Cinéma,Concert
LOCATION:Cinéma Le Clair\, 4 Avenue du Général Leclerc\, Thiviers\, Fran
 ce
GEO:45.41332;0.91892
X-APPLE-STRUCTURED-LOCATION;VALUE=URI;X-ADDRESS=4 Avenue du Général Lecle
 rc\, Thiviers\, France;X-APPLE-RADIUS=100;X-TITLE=Cinéma Le Clair:geo:45.
 41332,0.91892
END:VEVENT
BEGIN:VTIMEZONE
TZID:Europe/Paris
X-LIC-LOCATION:Europe/Paris
BEGIN:DAYLIGHT
DTSTART:20250330T030000
TZOFFSETFROM:+0100
TZOFFSETTO:+0200
TZNAME:CEST
END:DAYLIGHT
END:VTIMEZONE
END:VCALENDAR