BEGIN:VCALENDAR
VERSION:2.0
PRODID:-//wp-events-plugin.com//7.2.3.1//EN
TZID:Europe/Paris
X-WR-TIMEZONE:Europe/Paris
BEGIN:VEVENT
UID:11668@agenda24.fr
DTSTART;TZID=Europe/Paris:20260305T203000
DTEND;TZID=Europe/Paris:20260305T203000
DTSTAMP:20260301T133751Z
URL:https://agenda24.fr/evenements/cine-debat-sur-le-danger-des-pesticides
 -echange-avec-agriculteurs-2/
SUMMARY:Ciné débat sur le danger des pesticides - échange avec agriculte
 urs
DESCRIPTION:\n\n\n\n\n\nA l'initiative des Ami·es de la Conf' Dordogne et 
 avec notre soutien\, 3 dates et 3 lieux pour venir voir le film "Secrets 
 Toxiques" en Dordogne : A Saint Alvère\, à Trélissac et à Ribérac.\n
 \nA chaque fin de soirée\, échanges et séances de dédicaces\, avec Ber
 nard Guignes et Gérard Boinon\, respectivement arboriculteurs et éleveur
 s à la retraite\, victimes des pesticides.\n\n\n\n\n
ATTACH;FMTTYPE=image/jpeg:https://agenda24.fr/wp-content/uploads/2026/02/c
 ine.jpg
CATEGORIES:Cinéma,Militant,Rencontre / Conférence / Discussion
LOCATION:Cinéma Max Linder\, Rue des mobiles de coulmiers\, Ribérac\, Fra
 nce
GEO:45.245328;0.339129
X-APPLE-STRUCTURED-LOCATION;VALUE=URI;X-ADDRESS=Rue des mobiles de coulmier
 s\, Ribérac\, France;X-APPLE-RADIUS=100;X-TITLE=Cinéma Max Linder:geo:45
 .245328,0.339129
END:VEVENT
BEGIN:VTIMEZONE
TZID:Europe/Paris
X-LIC-LOCATION:Europe/Paris
BEGIN:STANDARD
DTSTART:20251026T020000
TZOFFSETFROM:+0200
TZOFFSETTO:+0100
TZNAME:CET
END:STANDARD
END:VTIMEZONE
END:VCALENDAR