BEGIN:VCALENDAR
VERSION:2.0
PRODID:-//wp-events-plugin.com//7.2.3.1//EN
TZID:Europe/Paris
X-WR-TIMEZONE:Europe/Paris
BEGIN:VEVENT
UID:3828@agenda24.fr
DTSTART;TZID=Europe/Paris:20241031T160000
DTEND;TZID=Europe/Paris:20241031T160000
DTSTAMP:20241030T085702Z
URL:https://agenda24.fr/evenements/cine-atelier-mon-petit-halloween/
SUMMARY:Ciné atelier - Mon petit Halloween
DESCRIPTION:
CATEGORIES:Dédié aux enfants
LOCATION:Cinema vox\, Place Bertrand de Born\, Montignac\, France
GEO:45.06373;1.16334
X-APPLE-STRUCTURED-LOCATION;VALUE=URI;X-ADDRESS=Place Bertrand de Born\, Mo
 ntignac\, France;X-APPLE-RADIUS=100;X-TITLE=Cinema vox:geo:45.06373,1.1633
 4
END:VEVENT
BEGIN:VTIMEZONE
TZID:Europe/Paris
X-LIC-LOCATION:Europe/Paris
BEGIN:STANDARD
DTSTART:20241027T020000
TZOFFSETFROM:+0200
TZOFFSETTO:+0100
TZNAME:CET
END:STANDARD
END:VTIMEZONE
END:VCALENDAR