BEGIN:VCALENDAR
VERSION:2.0
PRODID:-//wp-events-plugin.com//7.2.3.1//EN
TZID:Europe/Paris
X-WR-TIMEZONE:Europe/Paris
BEGIN:VEVENT
UID:10838@agenda24.fr
DTSTART;TZID=Europe/Paris:20260325T000000
DTEND;TZID=Europe/Paris:20260325T000000
DTSTAMP:20260324T191333Z
URL:https://agenda24.fr/evenements/chorale-occitane-association-tchatchoc/
SUMMARY:Chorale occitane  | association Tchatchoc
DESCRIPTION:
CATEGORIES:Atelier / Stage,Concert,Evènement à thème
LOCATION:Au Cocagne\, 5 bis rue Salomon Place Saint Louis\, Périgueux\, 24
 000\, France
X-APPLE-STRUCTURED-LOCATION;VALUE=URI;X-ADDRESS=5 bis rue Salomon Place Sai
 nt Louis\, Périgueux\, 24000\, France;X-APPLE-RADIUS=100;X-TITLE=Au Cocag
 ne:geo:0,0
END:VEVENT
BEGIN:VTIMEZONE
TZID:Europe/Paris
X-LIC-LOCATION:Europe/Paris
BEGIN:STANDARD
DTSTART:20251026T020000
TZOFFSETFROM:+0200
TZOFFSETTO:+0100
TZNAME:CET
END:STANDARD
END:VTIMEZONE
END:VCALENDAR