BEGIN:VCALENDAR
VERSION:2.0
PRODID:-//wp-events-plugin.com//7.2.3.1//EN
TZID:Europe/Paris
X-WR-TIMEZONE:Europe/Paris
BEGIN:VEVENT
UID:3827@agenda24.fr
DTSTART;TZID=Europe/Paris:20241031T180000
DTEND;TZID=Europe/Paris:20241031T180000
DTSTAMP:20241030T085702Z
URL:https://agenda24.fr/evenements/chasse-aux-bonbons-dhalloween/
SUMMARY:Chasse aux bonbons d'Halloween
DESCRIPTION:
CATEGORIES:Dédié aux enfants
LOCATION:Salle des fêtes\, Salle des fêtes\, Allas-Les-Mines\, France
GEO:44.83378;1.0721
X-APPLE-STRUCTURED-LOCATION;VALUE=URI;X-ADDRESS=Salle des fêtes\, Allas-Le
 s-Mines\, France;X-APPLE-RADIUS=100;X-TITLE=Salle des fêtes:geo:44.83378,
 1.0721
END:VEVENT
BEGIN:VTIMEZONE
TZID:Europe/Paris
X-LIC-LOCATION:Europe/Paris
BEGIN:STANDARD
DTSTART:20241027T020000
TZOFFSETFROM:+0200
TZOFFSETTO:+0100
TZNAME:CET
END:STANDARD
END:VTIMEZONE
END:VCALENDAR