BEGIN:VCALENDAR
VERSION:2.0
PRODID:-//wp-events-plugin.com//7.2.3.1//EN
TZID:Europe/Paris
X-WR-TIMEZONE:Europe/Paris
BEGIN:VEVENT
UID:4061@agenda24.fr
DTSTART;TZID=Europe/Paris:20241124T090000
DTEND;TZID=Europe/Paris:20241124T170000
DTSTAMP:20241030T091130Z
URL:https://agenda24.fr/evenements/chantier-participatif-jardin-et-plantat
 ion/
SUMMARY:Chantier participatif jardin et plantation
DESCRIPTION:
CATEGORIES:Atelier / Stage
LOCATION:Ferme du Parcot\, Chemin Abel Guionneau\, Echourgnac\, France
GEO:45.1335376;0.26498497
X-APPLE-STRUCTURED-LOCATION;VALUE=URI;X-ADDRESS=Chemin Abel Guionneau\, Ech
 ourgnac\, France;X-APPLE-RADIUS=100;X-TITLE=Ferme du Parcot:geo:45.1335376
 ,0.26498497
END:VEVENT
BEGIN:VTIMEZONE
TZID:Europe/Paris
X-LIC-LOCATION:Europe/Paris
BEGIN:STANDARD
DTSTART:20241027T020000
TZOFFSETFROM:+0200
TZOFFSETTO:+0100
TZNAME:CET
END:STANDARD
END:VTIMEZONE
END:VCALENDAR