BEGIN:VCALENDAR
VERSION:2.0
PRODID:-//wp-events-plugin.com//7.2.3.1//EN
TZID:Europe/Paris
X-WR-TIMEZONE:Europe/Paris
BEGIN:VEVENT
UID:10820@agenda24.fr
DTSTART;TZID=Europe/Paris:20260301T000000
DTEND;TZID=Europe/Paris:20260301T000000
DTSTAMP:20260226T143649Z
URL:https://agenda24.fr/evenements/chantier-participatif-aide-pour-la-serr
 e-au-chambon/
SUMMARY:Chantier participatif - Aide pour la serre au Chambon
DESCRIPTION:un deuxième chantier participatif aura lieu ce dimanche 1er ma
 rs (si la météo le permet) afin de rebâcher la serre du lieu-test ainsi
  que celle de Thomas\, le maraîcher voisin dont les installations ont ét
 é endommagées par la tempête Nils.\n\nQue vous ayez déjà participé a
 u premier chantier ou que ce soit votre première fois\, vous êtes les bi
 envenu.e.s ! Afin de nous organiser en amont\, merci de nous faire part d
 e votre éventuelle participation en réponse à ce mail ou par texto (06
 .74.85.35.67)\, en précisant l'heure et la durée approximatives de votre
  venue si possible.
CATEGORIES:Nature
LOCATION:Espace test Chambon\, Impasse du Chambon\, Marsac\, France
X-APPLE-STRUCTURED-LOCATION;VALUE=URI;X-ADDRESS=Impasse du Chambon\, Marsac
 \, France;X-APPLE-RADIUS=100;X-TITLE=Espace test Chambon:geo:0,0
END:VEVENT
BEGIN:VTIMEZONE
TZID:Europe/Paris
X-LIC-LOCATION:Europe/Paris
BEGIN:STANDARD
DTSTART:20251026T020000
TZOFFSETFROM:+0200
TZOFFSETTO:+0100
TZNAME:CET
END:STANDARD
END:VTIMEZONE
END:VCALENDAR