BEGIN:VCALENDAR
VERSION:2.0
PRODID:-//wp-events-plugin.com//7.2.3.1//EN
TZID:Europe/Paris
X-WR-TIMEZONE:Europe/Paris
BEGIN:VEVENT
UID:3900@agenda24.fr
DTSTART;TZID=Europe/Paris:20241123T143000
DTEND;TZID=Europe/Paris:20241123T163000
DTSTAMP:20241030T085618Z
URL:https://agenda24.fr/evenements/cest-quoi-le-jeu-de-role-ludotheque/
SUMMARY:C'est quoi le jeu de rôle ? - Ludothèque
DESCRIPTION:
CATEGORIES:Jeux
LOCATION:Ludothèque Espace Bellegarde\, Place Bellegarde\, Bergerac\, Fran
 ce
GEO:44.85288;0.48092
X-APPLE-STRUCTURED-LOCATION;VALUE=URI;X-ADDRESS=Place Bellegarde\, Bergerac
 \, France;X-APPLE-RADIUS=100;X-TITLE=Ludothèque Espace Bellegarde:geo:44.
 85288,0.48092
END:VEVENT
BEGIN:VTIMEZONE
TZID:Europe/Paris
X-LIC-LOCATION:Europe/Paris
BEGIN:STANDARD
DTSTART:20241027T020000
TZOFFSETFROM:+0200
TZOFFSETTO:+0100
TZNAME:CET
END:STANDARD
END:VTIMEZONE
END:VCALENDAR