BEGIN:VCALENDAR
VERSION:2.0
PRODID:-//wp-events-plugin.com//7.2.3.1//EN
TZID:Europe/Paris
X-WR-TIMEZONE:Europe/Paris
BEGIN:VEVENT
UID:3892@agenda24.fr
DTSTART;TZID=Europe/Paris:20241110T110000
DTEND;TZID=Europe/Paris:20241110T110000
DTSTAMP:20241030T085618Z
URL:https://agenda24.fr/evenements/ceremonie-de-remise-du-prix-litteraire-
 de-biographie-historique-brantome-2024/
SUMMARY:Cérémonie de remise du Prix littéraire de biographie historique 
 Brantôme 2024
DESCRIPTION:
CATEGORIES:Evènement à thème
LOCATION:Salle du Conseil\, Abbaye de Brantôme\, Brantôme\, France
GEO:45.3639869;0.64670130
X-APPLE-STRUCTURED-LOCATION;VALUE=URI;X-ADDRESS=Abbaye de Brantôme\, Brant
 ôme\, France;X-APPLE-RADIUS=100;X-TITLE=Salle du Conseil:geo:45.3639869,0
 .64670130
END:VEVENT
BEGIN:VTIMEZONE
TZID:Europe/Paris
X-LIC-LOCATION:Europe/Paris
BEGIN:STANDARD
DTSTART:20241027T020000
TZOFFSETFROM:+0200
TZOFFSETTO:+0100
TZNAME:CET
END:STANDARD
END:VTIMEZONE
END:VCALENDAR