BEGIN:VCALENDAR
VERSION:2.0
PRODID:-//wp-events-plugin.com//7.2.3.1//EN
TZID:Europe/Paris
X-WR-TIMEZONE:Europe/Paris
BEGIN:VEVENT
UID:4488@agenda24.fr
DTSTART;TZID=Europe/Paris:20241212T203000
DTEND;TZID=Europe/Paris:20241212T213000
DTSTAMP:20241214T154051Z
URL:https://agenda24.fr/evenements/casse-noisette-2/
SUMMARY:Casse Noisette
DESCRIPTION:
CATEGORIES:Spectacle
LOCATION:Centre Culturel Michel Manet\, Place Gambetta\, Bergerac\, France
GEO:44.8545302;0.48230426
X-APPLE-STRUCTURED-LOCATION;VALUE=URI;X-ADDRESS=Place Gambetta\, Bergerac\,
  France;X-APPLE-RADIUS=100;X-TITLE=Centre Culturel Michel Manet:geo:44.854
 5302,0.48230426
END:VEVENT
BEGIN:VTIMEZONE
TZID:Europe/Paris
X-LIC-LOCATION:Europe/Paris
BEGIN:STANDARD
DTSTART:20241027T020000
TZOFFSETFROM:+0200
TZOFFSETTO:+0100
TZNAME:CET
END:STANDARD
END:VTIMEZONE
END:VCALENDAR