BEGIN:VCALENDAR
VERSION:2.0
PRODID:-//wp-events-plugin.com//7.2.3.1//EN
TZID:Europe/Paris
X-WR-TIMEZONE:Europe/Paris
BEGIN:VEVENT
UID:5290@agenda24.fr
DTSTART;TZID=Europe/Paris:20250220T200000
DTEND;TZID=Europe/Paris:20250220T200000
DTSTAMP:20250213T102953Z
URL:https://agenda24.fr/evenements/carte-blanche-de-fevrier-foyer-du-troc/
SUMMARY:Carte blanche de février - Foyer du troc
DESCRIPTION:Tentative à l'arrache d'un seul en scène à la bonne franquet
 te\, de et avec Thomas Visonneau\n\nPrix libre - FOYER DU TROC (ouverture 
 des portes à 19h30). \n\nQuand le TROC m'a proposé une "carte blanche"\,
  je me suis dit que je n'avais rien de "montrable"\, rien en cours de cré
 ation. J'ai alors tapé dans Google "carte blanche" et j'ai lu la définit
 ion de l'expression : donner les pleins pouvoirs à quelqu'un\, l'autorise
 r à prendre toute initiative nécessaire. Okay. Qu'à cela ne tienne! S'i
 l faut se lancer\, alors je vais me lancer... et tenter "quelque chose de 
 beau"\, à l'arrache\, à la bonne franquette... parce qu'il n'y a sans do
 ute rien de mieux à faire ici bas et que c'est peut-être la seule façon
  de faire avancer le grand schmilblick de la création personnelle et coll
 ective. Et puis le Foyer du TROC est rempli de belles ondes : c'est parfai
 t pour sauter dans le vide!"
CATEGORIES:Spectacle
LOCATION:Allée du commissaire Félix Landry\, Allée du commissaire Félix
  Landry\, Bergerac\, France
GEO:44.8436147;0.49257197
X-APPLE-STRUCTURED-LOCATION;VALUE=URI;X-ADDRESS=Allée du commissaire Féli
 x Landry\, Bergerac\, France;X-APPLE-RADIUS=100;X-TITLE=Allée du commissa
 ire Félix Landry:geo:44.8436147,0.49257197
END:VEVENT
BEGIN:VTIMEZONE
TZID:Europe/Paris
X-LIC-LOCATION:Europe/Paris
BEGIN:STANDARD
DTSTART:20241027T020000
TZOFFSETFROM:+0200
TZOFFSETTO:+0100
TZNAME:CET
END:STANDARD
END:VTIMEZONE
END:VCALENDAR