BEGIN:VCALENDAR
VERSION:2.0
PRODID:-//wp-events-plugin.com//7.2.3.1//EN
TZID:Europe/Paris
X-WR-TIMEZONE:Europe/Paris
BEGIN:VEVENT
UID:8298@agenda24.fr
DTSTART;TZID=Europe/Paris:20250912T143000
DTEND;TZID=Europe/Paris:20250912T160000
DTSTAMP:20250905T092753Z
URL:https://agenda24.fr/evenements/cafe-the-et-convivialite-parler-le-fran
 cais-avec-des-femmes-dorigine-etrangere/
SUMMARY:Café\, thé et convivialité - parler le français avec des femmes
  d'origine étrangère
DESCRIPTION:\nLes rencontres "Café\, thé et convivialité" reprennent le 
 vendredi 12 septembre. Créées tout d'abord afin d'y parler le français 
 avec des femmes d'origine étrangère\, elles sont ouvertes à toutes les 
 Femmes Solidaires. (14h30 - 16 h\,)\n 17 rue Antoine Gadaud à Périgueux
 \n\nAu plaisir de vous y retrouver !
CATEGORIES:Rencontre / Conférence / Discussion
LOCATION:Local de Femmes solidaires\, 17 rue Antoine Gadaud\, Périgueux\, 
 France
X-APPLE-STRUCTURED-LOCATION;VALUE=URI;X-ADDRESS=17 rue Antoine Gadaud\, Pé
 rigueux\, France;X-APPLE-RADIUS=100;X-TITLE=Local de Femmes solidaires:geo
 :0,0
END:VEVENT
BEGIN:VTIMEZONE
TZID:Europe/Paris
X-LIC-LOCATION:Europe/Paris
BEGIN:DAYLIGHT
DTSTART:20250330T030000
TZOFFSETFROM:+0100
TZOFFSETTO:+0200
TZNAME:CEST
END:DAYLIGHT
END:VTIMEZONE
END:VCALENDAR