BEGIN:VCALENDAR
VERSION:2.0
PRODID:-//wp-events-plugin.com//7.2.3.1//EN
TZID:Europe/Paris
X-WR-TIMEZONE:Europe/Paris
BEGIN:VEVENT
UID:10794@agenda24.fr
DTSTART;TZID=Europe/Paris:20260228T000000
DTEND;TZID=Europe/Paris:20260228T000000
DTSTAMP:20260223T200828Z
URL:https://agenda24.fr/evenements/cafe-philo-quelle-serait-la-place-de-le
 tre-humain-dans-la-nature/
SUMMARY:Café philo - Quelle serait la place de l'être humain dans la natu
 re ?
DESCRIPTION:Café de l'union au Bugue
CATEGORIES:Evènement à thème,Rencontre / Conférence / Discussion
LOCATION:Café de l'Union\, Place de l'Hôtel de Ville\, Le Bugue\, France
GEO:44.918237;0.927334
X-APPLE-STRUCTURED-LOCATION;VALUE=URI;X-ADDRESS=Place de l'Hôtel de Ville\
 , Le Bugue\, France;X-APPLE-RADIUS=100;X-TITLE=Café de l'Union:geo:44.918
 237,0.927334
END:VEVENT
BEGIN:VTIMEZONE
TZID:Europe/Paris
X-LIC-LOCATION:Europe/Paris
BEGIN:STANDARD
DTSTART:20251026T020000
TZOFFSETFROM:+0200
TZOFFSETTO:+0100
TZNAME:CET
END:STANDARD
END:VTIMEZONE
END:VCALENDAR