BEGIN:VCALENDAR
VERSION:2.0
PRODID:-//wp-events-plugin.com//7.2.3.1//EN
TZID:Europe/Paris
X-WR-TIMEZONE:Europe/Paris
BEGIN:VEVENT
UID:10793@agenda24.fr
DTSTART;TZID=Europe/Paris:20260225T000000
DTEND;TZID=Europe/Paris:20260225T000000
DTSTAMP:20260223T200418Z
URL:https://agenda24.fr/evenements/cafe-philo-le-broc-branlant/
SUMMARY:Café philo - Le br'oc branlant
DESCRIPTION:Le café asso Le Br'oc branlant organise un café philo à 19h1
 5\n\nLe sujet à débattre sera choisi en début de séance\n\nAuberge esp
 agnole pour celles et ceux qui le souhaitent.
CATEGORIES:Evènement à thème,Rencontre / Conférence / Discussion
LOCATION:Broc Branlant\, Le bourg\, Saint Estèphe\, France
X-APPLE-STRUCTURED-LOCATION;VALUE=URI;X-ADDRESS=Le bourg\, Saint Estèphe\,
  France;X-APPLE-RADIUS=100;X-TITLE=Broc Branlant:geo:0,0
END:VEVENT
BEGIN:VTIMEZONE
TZID:Europe/Paris
X-LIC-LOCATION:Europe/Paris
BEGIN:STANDARD
DTSTART:20251026T020000
TZOFFSETFROM:+0200
TZOFFSETTO:+0100
TZNAME:CET
END:STANDARD
END:VTIMEZONE
END:VCALENDAR