BEGIN:VCALENDAR
VERSION:2.0
PRODID:-//wp-events-plugin.com//7.2.3.1//EN
TZID:Europe/Paris
X-WR-TIMEZONE:Europe/Paris
BEGIN:VEVENT
UID:9657@agenda24.fr
DTSTART;TZID=Europe/Paris:20251125T143000
DTEND;TZID=Europe/Paris:20251125T163000
DTSTAMP:20251101T090333Z
URL:https://agenda24.fr/evenements/cafe-des-seniors-7/
SUMMARY:Café des séniors
DESCRIPTION:Café des seniors avec Cassiopea : Les histoires de l'art : van
  Gogh\, animé par Philippe Lecomte
CATEGORIES:Rencontre / Conférence / Discussion
LOCATION:Riberac\, 13 Place du Général de Gaulle\, Riberac\, France
GEO:45.2477996;0.3389513
X-APPLE-STRUCTURED-LOCATION;VALUE=URI;X-ADDRESS=13 Place du Général de Ga
 ulle\, Riberac\, France;X-APPLE-RADIUS=100;X-TITLE=Riberac:geo:45.2477996,
 0.3389513
END:VEVENT
BEGIN:VTIMEZONE
TZID:Europe/Paris
X-LIC-LOCATION:Europe/Paris
BEGIN:STANDARD
DTSTART:20251026T020000
TZOFFSETFROM:+0200
TZOFFSETTO:+0100
TZNAME:CET
END:STANDARD
END:VTIMEZONE
END:VCALENDAR