BEGIN:VCALENDAR
VERSION:2.0
PRODID:-//wp-events-plugin.com//7.2.3.1//EN
TZID:Europe/Paris
X-WR-TIMEZONE:Europe/Paris
BEGIN:VEVENT
UID:8328@agenda24.fr
DTSTART;TZID=Europe/Paris:20250927T150000
DTEND;TZID=Europe/Paris:20250927T173000
DTSTAMP:20250907T171430Z
URL:https://agenda24.fr/evenements/cafe-citoyen-perigord-nontronais/
SUMMARY:Café citoyen Périgord Nontronais
DESCRIPTION:LES ENJEUX\nCanicules\, sécheresses et incendies dévastateurs
  se multiplient tandis que nombre d’espèces disparaissent. Or\, dans un
  contexte de réchauffement climatique et d’effondrement de la biodivers
 ité on constate un écart inquiétant entre les droits et les faits. La m
 ise en œuvre des politiques environnementales est difficile et se heurte 
 aux contraintes rencontrées par les acteurs économiques qui participent 
 au développement de notre territoire.\n\nConférence de Rémi Rouméas\, 
 sociologue maître de conférences à l’Université de Bordeaux\, co aut
 eur d’une remarquable étude sur le sujet.\n\nPuis\, table ronde avec di
 fférents acteurs économiques\, dont :\nDidier Gouraud (Président Chambr
 e des Métiers et de l’artisanat)\n\nFrançois Soulard (Agriculteur éle
 veur de la Confédération Paysanne)\n\nLaurent Pialhoux (Dirigeant Allian
 ce Forêt Bois) … et autres contacts en cours.\nECHANGES ENTRE LES INVIT
 ES
ATTACH;FMTTYPE=image/jpeg:https://agenda24.fr/wp-content/uploads/2025/09/C
 DD-PN-27-SEPTEMBRE-pdf.jpg
CATEGORIES:Evènement à thème,Rencontre / Conférence / Discussion
LOCATION:Auditorium\, Place Paul Bert\, Nontron\, France
GEO:45.530402;0.662239
X-APPLE-STRUCTURED-LOCATION;VALUE=URI;X-ADDRESS=Place Paul Bert\, Nontron\,
  France;X-APPLE-RADIUS=100;X-TITLE=Auditorium:geo:45.530402,0.662239
END:VEVENT
BEGIN:VTIMEZONE
TZID:Europe/Paris
X-LIC-LOCATION:Europe/Paris
BEGIN:DAYLIGHT
DTSTART:20250330T030000
TZOFFSETFROM:+0100
TZOFFSETTO:+0200
TZNAME:CEST
END:DAYLIGHT
END:VTIMEZONE
END:VCALENDAR