BEGIN:VCALENDAR
VERSION:2.0
PRODID:-//wp-events-plugin.com//7.2.3.1//EN
TZID:Europe/Paris
X-WR-TIMEZONE:Europe/Paris
BEGIN:VEVENT
UID:11835@agenda24.fr
DTSTART;TZID=Europe/Paris:20260325T140000
DTEND;TZID=Europe/Paris:20260325T140000
DTSTAMP:20260301T135157Z
URL:https://agenda24.fr/evenements/cadouin-fete-son-printemps/
SUMMARY:Cadouin fête son printemps
DESCRIPTION:Le village de Cadouin s’anime pour l’arrivée du Printemps.
  Au programme cinéma\, colloques\, randonnées\, visite\, repas...\nVendr
 edi : RDV à 14h pour une initiation à l'aquarelle avec Aurélie Gallais.
  Places limitées. Gratuit. A 20h00 projection "semer et récolter" en pr
 ésence du réalisateur Eric Le ROCH. Programme complet en images. 
CATEGORIES:Tourisme / Patrimoine
LOCATION:Place de l'abbaye\, Place de l'abbaye\, Cadouin\, France
GEO:44.8452377;0.90918539
X-APPLE-STRUCTURED-LOCATION;VALUE=URI;X-ADDRESS=Place de l'abbaye\, Cadouin
 \, France;X-APPLE-RADIUS=100;X-TITLE=Place de l'abbaye:geo:44.8452377,0.90
 918539
END:VEVENT
BEGIN:VTIMEZONE
TZID:Europe/Paris
X-LIC-LOCATION:Europe/Paris
BEGIN:STANDARD
DTSTART:20251026T020000
TZOFFSETFROM:+0200
TZOFFSETTO:+0100
TZNAME:CET
END:STANDARD
END:VTIMEZONE
END:VCALENDAR