BEGIN:VCALENDAR
VERSION:2.0
PRODID:-//wp-events-plugin.com//7.2.3.1//EN
TZID:Europe/Paris
X-WR-TIMEZONE:Europe/Paris
BEGIN:VEVENT
UID:11837@agenda24.fr
DTSTART;TZID=Europe/Paris:20260327T203000
DTEND;TZID=Europe/Paris:20260327T203000
DTSTAMP:20260301T135157Z
URL:https://agenda24.fr/evenements/cadouin-fete-son-printemps-3eme-edition
 /
SUMMARY:Cadouin fête son printemps | 3ème édition
DESCRIPTION:Le printemps arrive\, et à Cadouin\, on a prévu de le céléb
 rer comme  4 jours pour explorer le thème de la forêt\, entre histoire e
 t nature vivante des randonnées pour marcher ensemble et découvrir les c
 hemins autour du village\, un colloque pour plonger dans l'histoire des an
 imaux en forêt\, à travers les âges\, des ateliers pour pratiquer\, tes
 ter\, créer\,  du cinéma et un concert peint pour s'émerveiller. Des so
 rties nature pour observer la biodiversité \net la traditionnelle Fête d
 u Pain sous la halle... Parce qu'un moment comme ça\, ça se partage ! Qu
 e vous soyez passionné de patrimoine\, amoureux de la forêt ou simplemen
 t en quête d'une belle sortie en famille\, vous êtes les bienvenus. Vend
 redi soirée "Et si le castor revenait"? au foyer rural de Cadouin. Gratui
 t. Projection et rencontre sur le thème du retour potentiel du castor en 
 vallée de la Dordogne et forêt de la Bessède. 
CATEGORIES:Tourisme / Patrimoine
LOCATION:Place de l'abbaye\, Place de l'abbaye\, Cadouin\, France
GEO:44.8452377;0.90918539
X-APPLE-STRUCTURED-LOCATION;VALUE=URI;X-ADDRESS=Place de l'abbaye\, Cadouin
 \, France;X-APPLE-RADIUS=100;X-TITLE=Place de l'abbaye:geo:44.8452377,0.90
 918539
END:VEVENT
BEGIN:VTIMEZONE
TZID:Europe/Paris
X-LIC-LOCATION:Europe/Paris
BEGIN:STANDARD
DTSTART:20251026T020000
TZOFFSETFROM:+0200
TZOFFSETTO:+0100
TZNAME:CET
END:STANDARD
END:VTIMEZONE
END:VCALENDAR