BEGIN:VCALENDAR
VERSION:2.0
PRODID:-//wp-events-plugin.com//7.2.3.1//EN
TZID:Europe/Paris
X-WR-TIMEZONE:Europe/Paris
BEGIN:VEVENT
UID:11838@agenda24.fr
DTSTART;TZID=Europe/Paris:20260328T083000
DTEND;TZID=Europe/Paris:20260328T201500
DTSTAMP:20260301T135157Z
URL:https://agenda24.fr/evenements/cadouin-fete-son-printemps-3eme-edition
 -copie/
SUMMARY:Cadouin fête son printemps | 3ème édition - Copie
DESCRIPTION:Le printemps arrive. On a prévu de le célébrer comme  4 jour
 s pour explorer le thème de la forêt\, entre histoire et nature vivante 
 des randonnées pour marcher ensemble et découvrir les chemins autour du 
 village\, un colloque pour plonger dans l'histoire des animaux en forêt\,
  à travers les âges\, des ateliers pour pratiquer\, tester\, créer\,  d
 u cinéma et un concert peint pour s'émerveiller. Des sorties nature pour
  observer la biodiversité. Samedi au programme colloque à 8h30 sur les b
 estiaires de la grotte de Cussac (10€)\, à 14h00 : initiation à l'aqua
 relle. A 15h00 sorties de terrain\, pistage du blaireau et atelier amphibi
 ens et oiseaux. A 18h\, concert peint\, au cinéma lux\, gratuit. 20h15 pr
 ojection le chants des forêts. 
CATEGORIES:Tourisme / Patrimoine
LOCATION:Place de l'abbaye\, Place de l'abbaye\, Cadouin\, France
GEO:44.8452377;0.90918539
X-APPLE-STRUCTURED-LOCATION;VALUE=URI;X-ADDRESS=Place de l'abbaye\, Cadouin
 \, France;X-APPLE-RADIUS=100;X-TITLE=Place de l'abbaye:geo:44.8452377,0.90
 918539
END:VEVENT
BEGIN:VTIMEZONE
TZID:Europe/Paris
X-LIC-LOCATION:Europe/Paris
BEGIN:STANDARD
DTSTART:20251026T020000
TZOFFSETFROM:+0200
TZOFFSETTO:+0100
TZNAME:CET
END:STANDARD
END:VTIMEZONE
END:VCALENDAR