BEGIN:VCALENDAR
VERSION:2.0
PRODID:-//wp-events-plugin.com//7.2.3.1//EN
TZID:Europe/Paris
X-WR-TIMEZONE:Europe/Paris
BEGIN:VEVENT
UID:11711@agenda24.fr
DTSTART;TZID=Europe/Paris:20260307T083000
DTEND;TZID=Europe/Paris:20260307T120000
DTSTAMP:20260301T135042Z
URL:https://agenda24.fr/evenements/ca-roule-au-pays-de-saint-aulaye/
SUMMARY:Ca roule au Pays de Saint-Aulaye ?
DESCRIPTION:Vous avez envie d'en connâitre un peu plus sur le vélo et pou
 rquoi pas le réparer ?  \nRendez-vous au Marché de Saint-Aulaye: \nSamed
 i 7 mars\, animation petite reine sereine: présentation des équipements 
 obligatoires et recommmandés à vélo ainsi que des panneaux de signalisa
 tion spécifiques. Ouvert à tous.\nSamedi 11 avril et 23 mai\, déposez v
 otre vélo pour un diagnostic et une réparation sur place à un prix soli
 daire.\nInscription obligatoire via le QRCODE ou au 06 24 86 17 53.
CATEGORIES:Atelier / Stage
LOCATION:Place du champ de Foire\, Place du champ de Foire\, Saint-Aulaye\,
  France
GEO:45.2016783;0.13509135
X-APPLE-STRUCTURED-LOCATION;VALUE=URI;X-ADDRESS=Place du champ de Foire\, S
 aint-Aulaye\, France;X-APPLE-RADIUS=100;X-TITLE=Place du champ de Foire:ge
 o:45.2016783,0.13509135
END:VEVENT
BEGIN:VTIMEZONE
TZID:Europe/Paris
X-LIC-LOCATION:Europe/Paris
BEGIN:STANDARD
DTSTART:20251026T020000
TZOFFSETFROM:+0200
TZOFFSETTO:+0100
TZNAME:CET
END:STANDARD
END:VTIMEZONE
END:VCALENDAR