BEGIN:VCALENDAR
VERSION:2.0
PRODID:-//wp-events-plugin.com//7.2.3.1//EN
TZID:Europe/Paris
X-WR-TIMEZONE:Europe/Paris
BEGIN:VEVENT
UID:11661@agenda24.fr
DTSTART;TZID=Europe/Paris:20260228T190000
DTEND;TZID=Europe/Paris:20260228T223000
DTSTAMP:20260223T182248Z
URL:https://agenda24.fr/evenements/buffet-et-comedie-musicale/
SUMMARY:Buffet et comédie musicale
DESCRIPTION:Nous proposons un buffet à 10€ /personne sur réservation ju
 squ'au 24 février à : la.forge24@orange.fr\n\nPuis comédie musicale à 
 partir de 20h30\, le groupe vocal Grain d'Phonie nous embarque dans le roc
 k des années 30 à 50 ! Entrée libre\, paiement au chapeau pour les arti
 stes.
CATEGORIES:Concert
LOCATION:salle des fêtes\, Rue Secrestat\, Saint Pierre de Chignac\, Dordo
 gne \, 24330\, Nouvelle Aquitaine \, France
X-APPLE-STRUCTURED-LOCATION;VALUE=URI;X-ADDRESS=Rue Secrestat\, Saint Pierr
 e de Chignac\, Dordogne \, 24330\, Nouvelle Aquitaine \, France;X-APPLE-RA
 DIUS=100;X-TITLE=salle des fêtes:geo:0,0
END:VEVENT
BEGIN:VTIMEZONE
TZID:Europe/Paris
X-LIC-LOCATION:Europe/Paris
BEGIN:STANDARD
DTSTART:20251026T020000
TZOFFSETFROM:+0200
TZOFFSETTO:+0100
TZNAME:CET
END:STANDARD
END:VTIMEZONE
END:VCALENDAR