BEGIN:VCALENDAR
VERSION:2.0
PRODID:-//wp-events-plugin.com//7.2.3.1//EN
TZID:Europe/Paris
X-WR-TIMEZONE:Europe/Paris
BEGIN:VEVENT
UID:3870@agenda24.fr
DTSTART;TZID=Europe/Paris:20241103T090000
DTEND;TZID=Europe/Paris:20241103T140000
DTSTAMP:20241030T085627Z
URL:https://agenda24.fr/evenements/brunchez-a-la-halle/
SUMMARY:Brunchez à la halle
DESCRIPTION:
CATEGORIES:Evènement à thème
LOCATION:La Halle\, Place Louis de la Bardonnie\, Bergerac\, France
GEO:44.85207;0.48351
X-APPLE-STRUCTURED-LOCATION;VALUE=URI;X-ADDRESS=Place Louis de la Bardonnie
 \, Bergerac\, France;X-APPLE-RADIUS=100;X-TITLE=La Halle:geo:44.85207,0.48
 351
END:VEVENT
BEGIN:VTIMEZONE
TZID:Europe/Paris
X-LIC-LOCATION:Europe/Paris
BEGIN:STANDARD
DTSTART:20241027T020000
TZOFFSETFROM:+0200
TZOFFSETTO:+0100
TZNAME:CET
END:STANDARD
END:VTIMEZONE
END:VCALENDAR