BEGIN:VCALENDAR
VERSION:2.0
PRODID:-//wp-events-plugin.com//7.2.3.1//EN
TZID:Europe/Paris
X-WR-TIMEZONE:Europe/Paris
BEGIN:VEVENT
UID:5932@agenda24.fr
DTSTART;TZID=Europe/Paris:20250420T080000
DTEND;TZID=Europe/Paris:20250420T180000
DTSTAMP:20250326T140656Z
URL:https://agenda24.fr/evenements/brocante-vide-greniers-16/
SUMMARY:Brocante & vide-greniers
DESCRIPTION:Brocante\, vide-greniers. Buvette et restauration toute la jour
 née. Entrée et parking visiteurs gratuits. Prix du mètre linéaire: 2
 € (au dessous de 3 m: 4€ le m).
CATEGORIES:Marché / Foire / Brocante
LOCATION:Allée des sports\, Allée des sports\, Champagnac-de-Belair\, Fra
 nce
GEO:45.393955;0.698699
X-APPLE-STRUCTURED-LOCATION;VALUE=URI;X-ADDRESS=Allée des sports\, Champag
 nac-de-Belair\, France;X-APPLE-RADIUS=100;X-TITLE=Allée des sports:geo:45
 .393955,0.698699
END:VEVENT
BEGIN:VTIMEZONE
TZID:Europe/Paris
X-LIC-LOCATION:Europe/Paris
BEGIN:DAYLIGHT
DTSTART:20250330T030000
TZOFFSETFROM:+0100
TZOFFSETTO:+0200
TZNAME:CEST
END:DAYLIGHT
END:VTIMEZONE
END:VCALENDAR