BEGIN:VCALENDAR
VERSION:2.0
PRODID:-//wp-events-plugin.com//7.2.3.1//EN
TZID:Europe/Paris
X-WR-TIMEZONE:Europe/Paris
BEGIN:VEVENT
UID:5979@agenda24.fr
DTSTART;TZID=Europe/Paris:20250406T060000
DTEND;TZID=Europe/Paris:20250406T173000
DTSTAMP:20250326T140643Z
URL:https://agenda24.fr/evenements/brocante-vide-grenier-2/
SUMMARY:Brocante\, vide-grenier
DESCRIPTION:Réservation obligatoire\n2€ le mètre....5 mètres minimum\n
 Accueil de 6h à 18h / Entrée du parc municipal rond point St Roc\nRestau
 ration rapide et buvette\n
CATEGORIES:Marché / Foire / Brocante
LOCATION:Vide Grenier en fête\, Vide Grenier en fête\, Thiviers\, France
GEO:45.40969;0.91863
X-APPLE-STRUCTURED-LOCATION;VALUE=URI;X-ADDRESS=Vide Grenier en fête\, Thi
 viers\, France;X-APPLE-RADIUS=100;X-TITLE=Vide Grenier en fête:geo:45.409
 69,0.91863
END:VEVENT
BEGIN:VTIMEZONE
TZID:Europe/Paris
X-LIC-LOCATION:Europe/Paris
BEGIN:DAYLIGHT
DTSTART:20250330T030000
TZOFFSETFROM:+0100
TZOFFSETTO:+0200
TZNAME:CEST
END:DAYLIGHT
END:VTIMEZONE
END:VCALENDAR