BEGIN:VCALENDAR
VERSION:2.0
PRODID:-//wp-events-plugin.com//7.2.3.1//EN
TZID:Europe/Paris
X-WR-TIMEZONE:Europe/Paris
BEGIN:VEVENT
UID:5938@agenda24.fr
DTSTART;TZID=Europe/Paris:20250427T090000
DTEND;TZID=Europe/Paris:20250427T180000
DTSTAMP:20250326T140649Z
URL:https://agenda24.fr/evenements/brocante-professionnelle/
SUMMARY:Brocante professionnelle
DESCRIPTION:Environ 50 exposants seront au rendez-vous
CATEGORIES:Marché / Foire / Brocante
LOCATION:bourg\, bourg\, Saint-Jean-de-Cole\, France
GEO:45.4204639;0.8381443
X-APPLE-STRUCTURED-LOCATION;VALUE=URI;X-ADDRESS=bourg\, Saint-Jean-de-Cole\
 , France;X-APPLE-RADIUS=100;X-TITLE=bourg:geo:45.4204639,0.8381443
END:VEVENT
BEGIN:VTIMEZONE
TZID:Europe/Paris
X-LIC-LOCATION:Europe/Paris
BEGIN:DAYLIGHT
DTSTART:20250330T030000
TZOFFSETFROM:+0100
TZOFFSETTO:+0200
TZNAME:CEST
END:DAYLIGHT
END:VTIMEZONE
END:VCALENDAR