BEGIN:VCALENDAR
VERSION:2.0
PRODID:-//wp-events-plugin.com//7.2.3.1//EN
TZID:Europe/Paris
X-WR-TIMEZONE:Europe/Paris
BEGIN:VEVENT
UID:5242@agenda24.fr
DTSTART;TZID=Europe/Paris:20250216T080000
DTEND;TZID=Europe/Paris:20250216T180000
DTSTAMP:20250213T103021Z
URL:https://agenda24.fr/evenements/brocante-et-puces-couturieres/
SUMMARY:Brocante et puces couturières
DESCRIPTION:Ne manquez pas la brocante professionnelle et les puces couturi
 ères à Antonne-et-Trigonant le 16 février !\n\nInformations pratiques :
 \nRendez-vous sur le parking de la Salle des Fêtes\, Place Storelli\nPré
 sence d'une trentaine d'exposants\nEntrée gratuite \nRestauration sur pla
 ce \n\nPlus d'informations au 06 03 39 62 61 / 06 83 74 64 05
CATEGORIES:Marché / Foire / Brocante
LOCATION:Place Storelli\, Place Storelli\, Antonne-et-Trigonant\, France
GEO:45.2123248;0.82967950
X-APPLE-STRUCTURED-LOCATION;VALUE=URI;X-ADDRESS=Place Storelli\, Antonne-et
 -Trigonant\, France;X-APPLE-RADIUS=100;X-TITLE=Place Storelli:geo:45.21232
 48,0.82967950
END:VEVENT
BEGIN:VTIMEZONE
TZID:Europe/Paris
X-LIC-LOCATION:Europe/Paris
BEGIN:STANDARD
DTSTART:20241027T020000
TZOFFSETFROM:+0200
TZOFFSETTO:+0100
TZNAME:CET
END:STANDARD
END:VTIMEZONE
END:VCALENDAR