BEGIN:VCALENDAR
VERSION:2.0
PRODID:-//wp-events-plugin.com//7.2.3.1//EN
TZID:Europe/Paris
X-WR-TIMEZONE:Europe/Paris
BEGIN:VEVENT
UID:5241@agenda24.fr
DTSTART;TZID=Europe/Paris:20250202T070000
DTEND;TZID=Europe/Paris:20250202T130000
DTSTAMP:20250213T103021Z
URL:https://agenda24.fr/evenements/brocante-et-marche-aux-puces-mensuels/
SUMMARY:Brocante et marché aux puces mensuels
DESCRIPTION:Chaque premier dimanche du mois\, retrouvez une brocante et un 
 marché au puces\, Place de Lattre de Tassigny\, autour de l'église Notre
 -Dame. 
CATEGORIES:Marché / Foire / Brocante
LOCATION:Autour de l'église Notre-Dame\, Place de Lattre de Tassigny\, Ber
 gerac\, France
GEO:44.8534719;0.4833200
X-APPLE-STRUCTURED-LOCATION;VALUE=URI;X-ADDRESS=Place de Lattre de Tassigny
 \, Bergerac\, France;X-APPLE-RADIUS=100;X-TITLE=Autour de l'église Notre-
 Dame:geo:44.8534719,0.4833200
END:VEVENT
BEGIN:VTIMEZONE
TZID:Europe/Paris
X-LIC-LOCATION:Europe/Paris
BEGIN:STANDARD
DTSTART:20241027T020000
TZOFFSETFROM:+0200
TZOFFSETTO:+0100
TZNAME:CET
END:STANDARD
END:VTIMEZONE
END:VCALENDAR