BEGIN:VCALENDAR
VERSION:2.0
PRODID:-//wp-events-plugin.com//7.2.3.1//EN
TZID:Europe/Paris
X-WR-TIMEZONE:Europe/Paris
BEGIN:VEVENT
UID:5964@agenda24.fr
DTSTART;TZID=Europe/Paris:20250413T060000
DTEND;TZID=Europe/Paris:20250413T180000
DTSTAMP:20250326T140643Z
URL:https://agenda24.fr/evenements/brocante-de-printemps/
SUMMARY:Brocante de printemps
DESCRIPTION:Entrée gratuite.
CATEGORIES:Marché / Foire / Brocante
LOCATION:Place des promenades\, Place des promenades\, Mareuil\, France
GEO:45.4510808;0.4537904
X-APPLE-STRUCTURED-LOCATION;VALUE=URI;X-ADDRESS=Place des promenades\, Mare
 uil\, France;X-APPLE-RADIUS=100;X-TITLE=Place des promenades:geo:45.451080
 8,0.4537904
END:VEVENT
BEGIN:VTIMEZONE
TZID:Europe/Paris
X-LIC-LOCATION:Europe/Paris
BEGIN:DAYLIGHT
DTSTART:20250330T030000
TZOFFSETFROM:+0100
TZOFFSETTO:+0200
TZNAME:CEST
END:DAYLIGHT
END:VTIMEZONE
END:VCALENDAR