BEGIN:VCALENDAR
VERSION:2.0
PRODID:-//wp-events-plugin.com//7.2.3.1//EN
TZID:Europe/Paris
X-WR-TIMEZONE:Europe/Paris
BEGIN:VEVENT
UID:3838@agenda24.fr
DTSTART;TZID=Europe/Paris:20241113T090000
DTEND;TZID=Europe/Paris:20241113T120000
DTSTAMP:20241030T085702Z
URL:https://agenda24.fr/evenements/bricopage-special-automne-avec-le-robot
 -cubetto-7-10ans/
SUMMARY:Bricopage - spécial automne ! Avec le robot Cubetto (7-10ans)
DESCRIPTION:
CATEGORIES:Dédié aux enfants
LOCATION:Médiathèque\, 14 Avenue de Bergerac\, Lamonzie-Saint-Martin\, Fr
 ance
GEO:44.8422005;0.3819052
X-APPLE-STRUCTURED-LOCATION;VALUE=URI;X-ADDRESS=14 Avenue de Bergerac\, Lam
 onzie-Saint-Martin\, France;X-APPLE-RADIUS=100;X-TITLE=Médiathèque:geo:4
 4.8422005,0.3819052
END:VEVENT
BEGIN:VTIMEZONE
TZID:Europe/Paris
X-LIC-LOCATION:Europe/Paris
BEGIN:STANDARD
DTSTART:20241027T020000
TZOFFSETFROM:+0200
TZOFFSETTO:+0100
TZNAME:CET
END:STANDARD
END:VTIMEZONE
END:VCALENDAR