BEGIN:VCALENDAR
VERSION:2.0
PRODID:-//wp-events-plugin.com//7.2.3.1//EN
TZID:Europe/Paris
X-WR-TIMEZONE:Europe/Paris
BEGIN:VEVENT
UID:5289@agenda24.fr
DTSTART;TZID=Europe/Paris:20250315T203000
DTEND;TZID=Europe/Paris:20250315T203000
DTSTAMP:20250213T103003Z
URL:https://agenda24.fr/evenements/brassens-a-la-folie-theatre-et-musique/
SUMMARY:Brassens à la folie - Théâtre et musique
DESCRIPTION:Inspirée par le destin de cet homme si peu conventionnel\, ber
 cée par ses mots et ses idées\, Laureen Jeammes rend hommage à Brassens
  dans une création joyeuse\, dynamique\, drôle\,  originale ! Armée de 
 sa guitare\, sa voix\, son talent et sa valise\, elle entraine le public d
 ans un tourbillon irrésistible. Fraicheur\, humour\, tendresse.\nUn spect
 acle singulier sur un poète pétri d’humanité !
CATEGORIES:Spectacle
LOCATION:Salle Jean Macé\, Esppace Nelson Mandèla\, Montignac\, France
GEO:45.06483;1.16401
X-APPLE-STRUCTURED-LOCATION;VALUE=URI;X-ADDRESS=Esppace Nelson Mandèla\, M
 ontignac\, France;X-APPLE-RADIUS=100;X-TITLE=Salle Jean Macé:geo:45.06483
 ,1.16401
END:VEVENT
BEGIN:VTIMEZONE
TZID:Europe/Paris
X-LIC-LOCATION:Europe/Paris
BEGIN:STANDARD
DTSTART:20241027T020000
TZOFFSETFROM:+0200
TZOFFSETTO:+0100
TZNAME:CET
END:STANDARD
END:VTIMEZONE
END:VCALENDAR