BEGIN:VCALENDAR
VERSION:2.0
PRODID:-//wp-events-plugin.com//7.2.3.1//EN
TZID:Europe/Paris
X-WR-TIMEZONE:Europe/Paris
BEGIN:VEVENT
UID:9714@agenda24.fr
DTSTART;TZID=Europe/Paris:20251107T200000
DTEND;TZID=Europe/Paris:20251107T200000
DTSTAMP:20251101T090449Z
URL:https://agenda24.fr/evenements/brassens-a-la-folie-spectacle-3/
SUMMARY:Brassens à la folie - Spectacle
DESCRIPTION:Après avoir goûté à la danse\, au théâtre et au cinéma\,
  Laureen Eon Jeammes a finalement opté pour la chanson.\n\nCe spectacle p
 onctué d'anecdotes amusantes et instructives rend hommage à Brassens\, 
 à son humanité\, à sa singularité et à ses chansons.\n\n18H Ouverture
  du bar sur place. Restauration participative\, ramène quelques légumes\
 , de l'huile de coudes et/ou quelques pièces !\n\nParticipation au chapea
 u. \nPas de chien s'il vous plait. \n\n Sans réservation. 
CATEGORIES:Spectacle
LOCATION:A la Miellerie\, Le Queylou \, Les Eyzies-de-Tayac-Sireuil\, Franc
 e
GEO:44.9235309;1.003378
X-APPLE-STRUCTURED-LOCATION;VALUE=URI;X-ADDRESS=Le Queylou \, Les Eyzies-de
 -Tayac-Sireuil\, France;X-APPLE-RADIUS=100;X-TITLE=A la Miellerie:geo:44.9
 235309,1.003378
END:VEVENT
BEGIN:VTIMEZONE
TZID:Europe/Paris
X-LIC-LOCATION:Europe/Paris
BEGIN:STANDARD
DTSTART:20251026T020000
TZOFFSETFROM:+0200
TZOFFSETTO:+0100
TZNAME:CET
END:STANDARD
END:VTIMEZONE
END:VCALENDAR