BEGIN:VCALENDAR
VERSION:2.0
PRODID:-//wp-events-plugin.com//7.2.3.1//EN
TZID:Europe/Paris
X-WR-TIMEZONE:Europe/Paris
BEGIN:VEVENT
UID:9698@agenda24.fr
DTSTART;TZID=Europe/Paris:20251110T203000
DTEND;TZID=Europe/Paris:20251110T203000
DTSTAMP:20251101T090447Z
URL:https://agenda24.fr/evenements/brassens-a-la-folie-spectacle-2/
SUMMARY:Brassens à la folie - Spectacle
DESCRIPTION:Après avoir goûté à la danse\, au théâtre et au cinéma\,
  Laureen Eon Jeammes a finalement opté pour la chanson.\n\nCe spectacle p
 onctué d'anecdotes amusantes et instructives rend hommage à Brassens\, 
 à son humanité\, à sa singularité et à ses chansons.\n\n\nSur réserv
 ation
CATEGORIES:Spectacle
LOCATION:La caverne poétique\, 752 Route 66\, Saint-Leon-sur-Vezere\, Fran
 ce
GEO:45.0103109;1.0898067
X-APPLE-STRUCTURED-LOCATION;VALUE=URI;X-ADDRESS=752 Route 66\, Saint-Leon-s
 ur-Vezere\, France;X-APPLE-RADIUS=100;X-TITLE=La caverne poétique:geo:45.
 0103109,1.0898067
END:VEVENT
BEGIN:VTIMEZONE
TZID:Europe/Paris
X-LIC-LOCATION:Europe/Paris
BEGIN:STANDARD
DTSTART:20251026T020000
TZOFFSETFROM:+0200
TZOFFSETTO:+0100
TZNAME:CET
END:STANDARD
END:VTIMEZONE
END:VCALENDAR