BEGIN:VCALENDAR
VERSION:2.0
PRODID:-//wp-events-plugin.com//7.2.3.1//EN
TZID:Europe/Paris
X-WR-TIMEZONE:Europe/Paris
BEGIN:VEVENT
UID:5234@agenda24.fr
DTSTART;TZID=Europe/Paris:20250302T090000
DTEND;TZID=Europe/Paris:20250302T180000
DTSTAMP:20250213T103021Z
URL:https://agenda24.fr/evenements/bourse-multi-collections-et-vide-grenie
 r/
SUMMARY:Bourse multi-collections et vide-grenier
DESCRIPTION:29ème Bourse multicollections et vide-grenier\nAmicale Philat
 élique et cartophile au Gymnase – 06 03 05 38 82\nVide-grenier 3 M sans
  inscriptions autour du Stade – 06 07 65 57 72\n
CATEGORIES:Marché / Foire / Brocante
LOCATION:Gymnase des Massias\, rue Foix de Candalle\, Montpon-Ménestérol\
 , France
GEO:45.0066018;0.15560805
X-APPLE-STRUCTURED-LOCATION;VALUE=URI;X-ADDRESS=rue Foix de Candalle\, Mont
 pon-Ménestérol\, France;X-APPLE-RADIUS=100;X-TITLE=Gymnase des Massias:g
 eo:45.0066018,0.15560805
END:VEVENT
BEGIN:VTIMEZONE
TZID:Europe/Paris
X-LIC-LOCATION:Europe/Paris
BEGIN:STANDARD
DTSTART:20241027T020000
TZOFFSETFROM:+0200
TZOFFSETTO:+0100
TZNAME:CET
END:STANDARD
END:VTIMEZONE
END:VCALENDAR