BEGIN:VCALENDAR
VERSION:2.0
PRODID:-//wp-events-plugin.com//7.2.3.1//EN
TZID:Europe/Paris
X-WR-TIMEZONE:Europe/Paris
BEGIN:VEVENT
UID:5930@agenda24.fr
DTSTART;TZID=Europe/Paris:20250406T083000
DTEND;TZID=Europe/Paris:20250406T173000
DTSTAMP:20250326T140656Z
URL:https://agenda24.fr/evenements/bourse-aux-plantes/
SUMMARY:Bourse aux plantes
DESCRIPTION:
CATEGORIES:Marché / Foire / Brocante
LOCATION:2 place de la mairie\, 2 place de la mairie\, Genis\, France
GEO:45.3259995;1.1624766
X-APPLE-STRUCTURED-LOCATION;VALUE=URI;X-ADDRESS=2 place de la mairie\, Geni
 s\, France;X-APPLE-RADIUS=100;X-TITLE=2 place de la mairie:geo:45.3259995,
 1.1624766
END:VEVENT
BEGIN:VTIMEZONE
TZID:Europe/Paris
X-LIC-LOCATION:Europe/Paris
BEGIN:DAYLIGHT
DTSTART:20250330T030000
TZOFFSETFROM:+0100
TZOFFSETTO:+0200
TZNAME:CEST
END:DAYLIGHT
END:VTIMEZONE
END:VCALENDAR