BEGIN:VCALENDAR
VERSION:2.0
PRODID:-//wp-events-plugin.com//7.2.3.1//EN
TZID:Europe/Paris
X-WR-TIMEZONE:Europe/Paris
BEGIN:VEVENT
UID:5934@agenda24.fr
DTSTART;TZID=Europe/Paris:20250426T083000
DTEND;TZID=Europe/Paris:20250426T130000
DTSTAMP:20250326T140656Z
URL:https://agenda24.fr/evenements/bourse-aux-plantes-2025/
SUMMARY:Bourse aux plantes 2025
DESCRIPTION:L’association Héliantis Humanis et l’antenne bergeracoise 
 de la Ligue contre le cancer 24 organisent une bourse aux plantes au bén
 éfice de la Ligue contre le cancer Dordogne et des Jardins du Cœur de Be
 rgerac qui nous accueillons sur notre site.\n\nLa bourse aux plantes est r
 éservée aux jardiniers amateurs.\nEntrée Visiteurs : gratuit
CATEGORIES:Marché / Foire / Brocante
LOCATION:Aux Jardins du Coeur\, Rue Rudolph Nureev\, Bergerac\, France
GEO:44.84508;0.47893
X-APPLE-STRUCTURED-LOCATION;VALUE=URI;X-ADDRESS=Rue Rudolph Nureev\, Berger
 ac\, France;X-APPLE-RADIUS=100;X-TITLE=Aux Jardins du Coeur:geo:44.84508,0
 .47893
END:VEVENT
BEGIN:VTIMEZONE
TZID:Europe/Paris
X-LIC-LOCATION:Europe/Paris
BEGIN:DAYLIGHT
DTSTART:20250330T030000
TZOFFSETFROM:+0100
TZOFFSETTO:+0200
TZNAME:CEST
END:DAYLIGHT
END:VTIMEZONE
END:VCALENDAR