BEGIN:VCALENDAR
VERSION:2.0
PRODID:-//wp-events-plugin.com//7.2.3.1//EN
TZID:Europe/Paris
X-WR-TIMEZONE:Europe/Paris
BEGIN:VEVENT
UID:3872@agenda24.fr
DTSTART;TZID=Europe/Paris:20241102T150000
DTEND;TZID=Europe/Paris:20241102T190000
DTSTAMP:20241030T085627Z
URL:https://agenda24.fr/evenements/boum-dhalloween/
SUMMARY:Boum d'Halloween
DESCRIPTION:
CATEGORIES:Evènement à thème
LOCATION:Salle du RPA\, 34\, rue Jean Sicaire Dardan\, Brantôme\, France
GEO:45.3571321;0.65527826
X-APPLE-STRUCTURED-LOCATION;VALUE=URI;X-ADDRESS=34\, rue Jean Sicaire Darda
 n\, Brantôme\, France;X-APPLE-RADIUS=100;X-TITLE=Salle du RPA:geo:45.3571
 321,0.65527826
END:VEVENT
BEGIN:VTIMEZONE
TZID:Europe/Paris
X-LIC-LOCATION:Europe/Paris
BEGIN:STANDARD
DTSTART:20241027T020000
TZOFFSETFROM:+0200
TZOFFSETTO:+0100
TZNAME:CET
END:STANDARD
END:VTIMEZONE
END:VCALENDAR