BEGIN:VCALENDAR
VERSION:2.0
PRODID:-//wp-events-plugin.com//7.2.3.1//EN
TZID:Europe/Paris
X-WR-TIMEZONE:Europe/Paris
BEGIN:VEVENT
UID:3880@agenda24.fr
DTSTART;TZID=Europe/Paris:20241031T180000
DTEND;TZID=Europe/Paris:20241031T220000
DTSTAMP:20241030T085627Z
URL:https://agenda24.fr/evenements/boom-dhalloween/
SUMMARY:Boom d'Halloween
DESCRIPTION:
CATEGORIES:Evènement à thème
LOCATION:Halle du Marché aux Truffes\, Halle du Marché aux Truffes\, Sain
 te-Alvere\, France
GEO:44.9464990;0.80819793
X-APPLE-STRUCTURED-LOCATION;VALUE=URI;X-ADDRESS=Halle du Marché aux Truffe
 s\, Sainte-Alvere\, France;X-APPLE-RADIUS=100;X-TITLE=Halle du Marché aux
  Truffes:geo:44.9464990,0.80819793
END:VEVENT
BEGIN:VTIMEZONE
TZID:Europe/Paris
X-LIC-LOCATION:Europe/Paris
BEGIN:STANDARD
DTSTART:20241027T020000
TZOFFSETFROM:+0200
TZOFFSETTO:+0100
TZNAME:CET
END:STANDARD
END:VTIMEZONE
END:VCALENDAR