BEGIN:VCALENDAR
VERSION:2.0
PRODID:-//wp-events-plugin.com//7.2.3.1//EN
TZID:Europe/Paris
X-WR-TIMEZONE:Europe/Paris
BEGIN:VEVENT
UID:5118@agenda24.fr
DTSTART;TZID=Europe/Paris:20250314T093000
DTEND;TZID=Europe/Paris:20250314T113000
DTSTAMP:20250213T093421Z
URL:https://agenda24.fr/evenements/bebes-lecteurs-26/
SUMMARY:Bébés lecteurs
DESCRIPTION:Venez partager un moment autour des livres et des histoires ave
 c vos jeunes enfants à la médiathèque. 9h30-11h30\, sur réservation. L
 e prêt de documents n’est pas assuré pendant cette activité.\n\nMédi
 athèque Jeanne D’Arc 05 53 81 66 27 / bibliotheque24@mairie-neuvic-dord
 ogne.fr \n
CATEGORIES:Rencontre / Conférence / Discussion
LOCATION:Médiathèque Jeanne d'Arc\, 25 Avenue Général De Gaulle\, Neuvi
 c\, France
GEO:45.0987919;0.46965565
X-APPLE-STRUCTURED-LOCATION;VALUE=URI;X-ADDRESS=25 Avenue Général De Gaul
 le\, Neuvic\, France;X-APPLE-RADIUS=100;X-TITLE=Médiathèque Jeanne d'Arc
 :geo:45.0987919,0.46965565
END:VEVENT
BEGIN:VTIMEZONE
TZID:Europe/Paris
X-LIC-LOCATION:Europe/Paris
BEGIN:STANDARD
DTSTART:20241027T020000
TZOFFSETFROM:+0200
TZOFFSETTO:+0100
TZNAME:CET
END:STANDARD
END:VTIMEZONE
END:VCALENDAR