BEGIN:VCALENDAR
VERSION:2.0
PRODID:-//wp-events-plugin.com//7.2.3.1//EN
TZID:Europe/Paris
X-WR-TIMEZONE:Europe/Paris
BEGIN:VEVENT
UID:5117@agenda24.fr
DTSTART;TZID=Europe/Paris:20250220T100000
DTEND;TZID=Europe/Paris:20250220T100000
DTSTAMP:20250213T093421Z
URL:https://agenda24.fr/evenements/bebes-lecteurs-25/
SUMMARY:Bébés lecteurs
DESCRIPTION:Bébés lecteurs à 10h\nDes histoires et des comptines sont pr
 oposées aux petits non scolarisés et leurs accompagnants( parents\, gran
 ds-parents\, nounous...)\nMoment convivial\, découverte de l'objet livre 
 et partage d'expériences.\nGratuit.\n\n
CATEGORIES:Rencontre / Conférence / Discussion
LOCATION:Médiathèque Geneviève Callerot\, Médiathèque Geneviève Calle
 rot \, Saint Aulaye-Puymangou\, France
GEO:45.2014778;0.13365341
X-APPLE-STRUCTURED-LOCATION;VALUE=URI;X-ADDRESS=Médiathèque Geneviève Ca
 llerot \, Saint Aulaye-Puymangou\, France;X-APPLE-RADIUS=100;X-TITLE=Médi
 athèque Geneviève Callerot:geo:45.2014778,0.13365341
END:VEVENT
BEGIN:VTIMEZONE
TZID:Europe/Paris
X-LIC-LOCATION:Europe/Paris
BEGIN:STANDARD
DTSTART:20241027T020000
TZOFFSETFROM:+0200
TZOFFSETTO:+0100
TZNAME:CET
END:STANDARD
END:VTIMEZONE
END:VCALENDAR