BEGIN:VCALENDAR
VERSION:2.0
PRODID:-//wp-events-plugin.com//7.2.3.1//EN
TZID:Europe/Paris
X-WR-TIMEZONE:Europe/Paris
BEGIN:VEVENT
UID:5115@agenda24.fr
DTSTART;TZID=Europe/Paris:20250314T100000
DTEND;TZID=Europe/Paris:20250314T113000
DTSTAMP:20250213T093421Z
URL:https://agenda24.fr/evenements/bebes-lecteurs-23/
SUMMARY:Bébés lecteurs
DESCRIPTION:Animations gratuites autour des livres de 6 mois à 3 ans de 10
 h à 11h30 à la Médiathèque – 05 53 82 30 54
CATEGORIES:Rencontre / Conférence / Discussion
LOCATION:Médiathèque\, rue de Verdun\, Montpon-Ménestérol\, France
GEO:45.0089582;0.15957581
X-APPLE-STRUCTURED-LOCATION;VALUE=URI;X-ADDRESS=rue de Verdun\, Montpon-Mé
 nestérol\, France;X-APPLE-RADIUS=100;X-TITLE=Médiathèque:geo:45.0089582
 ,0.15957581
END:VEVENT
BEGIN:VTIMEZONE
TZID:Europe/Paris
X-LIC-LOCATION:Europe/Paris
BEGIN:STANDARD
DTSTART:20241027T020000
TZOFFSETFROM:+0200
TZOFFSETTO:+0100
TZNAME:CET
END:STANDARD
END:VTIMEZONE
END:VCALENDAR