BEGIN:VCALENDAR
VERSION:2.0
PRODID:-//wp-events-plugin.com//7.2.3.1//EN
TZID:Europe/Paris
X-WR-TIMEZONE:Europe/Paris
BEGIN:VEVENT
UID:5114@agenda24.fr
DTSTART;TZID=Europe/Paris:20250221T100000
DTEND;TZID=Europe/Paris:20250221T100000
DTSTAMP:20250213T093421Z
URL:https://agenda24.fr/evenements/bebes-lecteurs-22/
SUMMARY:Bébés lecteurs
DESCRIPTION:Un moment privilégié où le tout-petit va découvrir le plais
 ir du livre et de la lecture grâce aux histoires\, comptines\, kamishiba
 ïs ou tapis-contes.
CATEGORIES:Rencontre / Conférence / Discussion
LOCATION:Médiathèque\, 26 rue de Verdun\, Nontron\, France
GEO:45.5301481;0.6636738
X-APPLE-STRUCTURED-LOCATION;VALUE=URI;X-ADDRESS=26 rue de Verdun\, Nontron\
 , France;X-APPLE-RADIUS=100;X-TITLE=Médiathèque:geo:45.5301481,0.6636738
END:VEVENT
BEGIN:VTIMEZONE
TZID:Europe/Paris
X-LIC-LOCATION:Europe/Paris
BEGIN:STANDARD
DTSTART:20241027T020000
TZOFFSETFROM:+0200
TZOFFSETTO:+0100
TZNAME:CET
END:STANDARD
END:VTIMEZONE
END:VCALENDAR