BEGIN:VCALENDAR
VERSION:2.0
PRODID:-//wp-events-plugin.com//7.2.3.1//EN
TZID:Europe/Paris
X-WR-TIMEZONE:Europe/Paris
BEGIN:VEVENT
UID:5261@agenda24.fr
DTSTART;TZID=Europe/Paris:20250308T160000
DTEND;TZID=Europe/Paris:20250308T230000
DTSTAMP:20250213T103011Z
URL:https://agenda24.fr/evenements/bal-traditionnel/
SUMMARY:Bal traditionnel
DESCRIPTION:Bal traditionnel animé par Hastapen.\nDe 16h à 18h : atelier 
 d'initiation\nDe 18h à 20h30 : repas partagé tiré du sac\n20h30 : bal t
 raditionnel
CATEGORIES:Soirées dansantes
LOCATION:Salle des fêtes\, Salle des fêtes\, Monpazier\, France
GEO:44.6848517;0.89384990
X-APPLE-STRUCTURED-LOCATION;VALUE=URI;X-ADDRESS=Salle des fêtes\, Monpazie
 r\, France;X-APPLE-RADIUS=100;X-TITLE=Salle des fêtes:geo:44.6848517,0.89
 384990
END:VEVENT
BEGIN:VTIMEZONE
TZID:Europe/Paris
X-LIC-LOCATION:Europe/Paris
BEGIN:STANDARD
DTSTART:20241027T020000
TZOFFSETFROM:+0200
TZOFFSETTO:+0100
TZNAME:CET
END:STANDARD
END:VTIMEZONE
END:VCALENDAR