BEGIN:VCALENDAR
VERSION:2.0
PRODID:-//wp-events-plugin.com//7.2.3.1//EN
TZID:Europe/Paris
X-WR-TIMEZONE:Europe/Paris
BEGIN:VEVENT
UID:9663@agenda24.fr
DTSTART;TZID=Europe/Paris:20251129T203000
DTEND;TZID=Europe/Paris:20251129T203000
DTSTAMP:20251101T090408Z
URL:https://agenda24.fr/evenements/bal-traditionnel-3/
SUMMARY:Bal traditionnel
DESCRIPTION:Bal traditionnel animé par Les Gars'zier du trad.\n\n16h-18h :
  atelier d'initiation (bourrées\, scottishes\, mazurkas)\n18h-20h30 : rep
 as partagé tiré du sac\n20h30 :  bal
CATEGORIES:Soirées dansantes
LOCATION:Salle des fêtes\, Salle des fêtes\, Monpazier\, France
GEO:44.6849202;0.89382962
X-APPLE-STRUCTURED-LOCATION;VALUE=URI;X-ADDRESS=Salle des fêtes\, Monpazie
 r\, France;X-APPLE-RADIUS=100;X-TITLE=Salle des fêtes:geo:44.6849202,0.89
 382962
END:VEVENT
BEGIN:VTIMEZONE
TZID:Europe/Paris
X-LIC-LOCATION:Europe/Paris
BEGIN:STANDARD
DTSTART:20251026T020000
TZOFFSETFROM:+0200
TZOFFSETTO:+0100
TZNAME:CET
END:STANDARD
END:VTIMEZONE
END:VCALENDAR