BEGIN:VCALENDAR
VERSION:2.0
PRODID:-//wp-events-plugin.com//7.2.3.1//EN
TZID:Europe/Paris
X-WR-TIMEZONE:Europe/Paris
BEGIN:VEVENT
UID:8299@agenda24.fr
DTSTART;TZID=Europe/Paris:20250907T100000
DTEND;TZID=Europe/Paris:20250907T230000
DTSTAMP:20250905T092920Z
URL:https://agenda24.fr/evenements/bal-paysan-avec-hk-visite-de-la-ferme-m
 arche-de-producteur-bal-trad/
SUMMARY:Bal Paysan avec HK ! (visite de la ferme\, marché de producteur\, 
 bal trad)
DESCRIPTION:Dimanche 07 septembre\, soyez toutes et tous les bienvenu-es po
 ur un Bal Paysan à la ferme de l'Unis-Vert des Sens. \n\nUn bal avec HK 
 et sa troupe au grand complet\, au beau milieu d'un marché paysan local\,
  dans un lieu à taille humaine\, respectueux de la Terre et du vivant. Da
 nser encore\, chanter ensemble\, continuer à semer et à s’aimer\, gard
 er le sens et le lien\, se sentir vivants et heureux !\n\nAu programme : v
 isites de la ferme\, marché de producteurs et artisans\, ateliers\, siest
 e musicale\, bal trad\, “Le Petit grand théâtre” par la cie Vata\, b
 al avec HK.\n\nLes places sont à prix libre\, à vot' bon coeur 😊
CATEGORIES:Concert,Marché / Foire / Brocante
LOCATION:L'unis vert des sens\, L'unis vert des sens\, Gout-Rossignol\, Fra
 nce
GEO:45.41424;0.38461
X-APPLE-STRUCTURED-LOCATION;VALUE=URI;X-ADDRESS=L'unis vert des sens\, Gout
 -Rossignol\, France;X-APPLE-RADIUS=100;X-TITLE=L'unis vert des sens:geo:45
 .41424,0.38461
END:VEVENT
BEGIN:VTIMEZONE
TZID:Europe/Paris
X-LIC-LOCATION:Europe/Paris
BEGIN:DAYLIGHT
DTSTART:20250330T030000
TZOFFSETFROM:+0100
TZOFFSETTO:+0200
TZNAME:CEST
END:DAYLIGHT
END:VTIMEZONE
END:VCALENDAR