BEGIN:VCALENDAR
VERSION:2.0
PRODID:-//wp-events-plugin.com//7.2.3.1//EN
TZID:Europe/Paris
X-WR-TIMEZONE:Europe/Paris
BEGIN:VEVENT
UID:9660@agenda24.fr
DTSTART;TZID=Europe/Paris:20251101T180000
DTEND;TZID=Europe/Paris:20251101T180000
DTSTAMP:20251101T090408Z
URL:https://agenda24.fr/evenements/bal-dhalloween-concours-de-citrouille/
SUMMARY:Bal d'halloween / Concours de Citrouille
DESCRIPTION:Bal d'Halloween Cladech\n18h Concours de citrouille ouvert à t
 ous\nBuvette sur place\n20h Résultat concours de citrouille et remise des
  prix\n20h30 Feu d'artifice\n20h45 repas et bal sur réservation\nAdulte 2
 3€ / enfant 12€\nVelouté de potimarron et chataigne\, Parmentier de c
 anard à la citrouille\, Salade fromage\, Dessert\, Vin et café\nTombla
CATEGORIES:Soirées dansantes
LOCATION:Cladech\, Cladech\, Cladech\, France
GEO:44.7521819;1.0394635
X-APPLE-STRUCTURED-LOCATION;VALUE=URI;X-ADDRESS=Cladech\, Cladech\, France;
 X-APPLE-RADIUS=100;X-TITLE=Cladech:geo:44.7521819,1.0394635
END:VEVENT
BEGIN:VTIMEZONE
TZID:Europe/Paris
X-LIC-LOCATION:Europe/Paris
BEGIN:STANDARD
DTSTART:20251026T020000
TZOFFSETFROM:+0200
TZOFFSETTO:+0100
TZNAME:CET
END:STANDARD
END:VTIMEZONE
END:VCALENDAR