BEGIN:VCALENDAR
VERSION:2.0
PRODID:-//wp-events-plugin.com//7.2.3.1//EN
TZID:Europe/Paris
X-WR-TIMEZONE:Europe/Paris
BEGIN:VEVENT
UID:9678@agenda24.fr
DTSTART;TZID=Europe/Paris:20251120T203000
DTEND;TZID=Europe/Paris:20251120T223000
DTSTAMP:20251101T090445Z
URL:https://agenda24.fr/evenements/aymeric-lompret-yolo/
SUMMARY:Aymeric Lompret - "YOLO"
DESCRIPTION:Découvrez le nouveau spectacle "YOLO" d'Aymeric Lompret \n\n«
  Hey vous avez pas vu mon chien? Mon chien ? J’ai perdu mon chien vous a
 vez pas vu mon chien ? Pardon excusez-moi je suis con vous pouvez pas rép
 ondre. Enfin vous pouvez répondre mais j’entends pas\, du coup c’est 
 pas nécessaire de répondre »\n\nRendez-vous les 20 et 21 novembre 2025 
 à 20h30 au théâtre de l'Odyssée à Périgueux.
CATEGORIES:Spectacle
LOCATION:Espl. Robert Badinter\, Espl. Robert Badinter\, Périgueux\, Franc
 e
GEO:45.1848479;0.7173339
X-APPLE-STRUCTURED-LOCATION;VALUE=URI;X-ADDRESS=Espl. Robert Badinter\, Pé
 rigueux\, France;X-APPLE-RADIUS=100;X-TITLE=Espl. Robert Badinter:geo:45.1
 848479,0.7173339
END:VEVENT
BEGIN:VTIMEZONE
TZID:Europe/Paris
X-LIC-LOCATION:Europe/Paris
BEGIN:STANDARD
DTSTART:20251026T020000
TZOFFSETFROM:+0200
TZOFFSETTO:+0100
TZNAME:CET
END:STANDARD
END:VTIMEZONE
END:VCALENDAR