BEGIN:VCALENDAR
VERSION:2.0
PRODID:-//wp-events-plugin.com//7.2.3.1//EN
TZID:Europe/Paris
X-WR-TIMEZONE:Europe/Paris
BEGIN:VEVENT
UID:4054@agenda24.fr
DTSTART;TZID=Europe/Paris:20241109T093000
DTEND;TZID=Europe/Paris:20241109T103000
DTSTAMP:20241030T091130Z
URL:https://agenda24.fr/evenements/ateliers-thematique-feerique/
SUMMARY:Ateliers - thématique féérique
DESCRIPTION:
CATEGORIES:Atelier / Stage
LOCATION:Salle belette\, Le Bourg\, Saint-Aquilin\, France
GEO:45.1858488;0.49331456
X-APPLE-STRUCTURED-LOCATION;VALUE=URI;X-ADDRESS=Le Bourg\, Saint-Aquilin\, 
 France;X-APPLE-RADIUS=100;X-TITLE=Salle belette:geo:45.1858488,0.49331456
END:VEVENT
BEGIN:VTIMEZONE
TZID:Europe/Paris
X-LIC-LOCATION:Europe/Paris
BEGIN:STANDARD
DTSTART:20241027T020000
TZOFFSETFROM:+0200
TZOFFSETTO:+0100
TZNAME:CET
END:STANDARD
END:VTIMEZONE
END:VCALENDAR