BEGIN:VCALENDAR
VERSION:2.0
PRODID:-//wp-events-plugin.com//7.2.3.1//EN
TZID:Europe/Paris
X-WR-TIMEZONE:Europe/Paris
BEGIN:VEVENT
UID:11181@agenda24.fr
DTSTART;TZID=Europe/Paris:20260204T140000
DTEND;TZID=Europe/Paris:20260204T160000
DTSTAMP:20260424T105545Z
URL:
SUMMARY:Atelier tricot
DESCRIPTION:Atelier tricot - Atelier gratuit et convivial pour vous guider 
 et échanger autour du tricot et crochet\nAmenez votre ouvrage ou votre ma
 tériel si vous en avez. 
LOCATION:6 Place de Saint-Apre\, 6 Place de Saint-Apre\, Tocane-Saint-Apre\
 , France
GEO:45.253690;0.497930
X-APPLE-STRUCTURED-LOCATION;VALUE=URI;X-ADDRESS=6 Place de Saint-Apre\, Toc
 ane-Saint-Apre\, France;X-APPLE-RADIUS=100;X-TITLE=6 Place de Saint-Apre:g
 eo:45.253690,0.497930
END:VEVENT
BEGIN:VTIMEZONE
TZID:Europe/Paris
X-LIC-LOCATION:Europe/Paris
BEGIN:STANDARD
DTSTART:20251026T020000
TZOFFSETFROM:+0200
TZOFFSETTO:+0100
TZNAME:CET
END:STANDARD
END:VTIMEZONE
END:VCALENDAR