BEGIN:VCALENDAR
VERSION:2.0
PRODID:-//wp-events-plugin.com//7.2.3.1//EN
TZID:Europe/Paris
X-WR-TIMEZONE:Europe/Paris
BEGIN:VEVENT
UID:11683@agenda24.fr
DTSTART;TZID=Europe/Paris:20260303T090000
DTEND;TZID=Europe/Paris:20260303T120000
DTSTAMP:20260301T135049Z
URL:https://agenda24.fr/evenements/atelier-sport-seniors-7/
SUMMARY:Atelier Sport Seniors
DESCRIPTION:« Seniors à nous la Forme ! » : découverte et pratique d'ac
 tivités physiques adaptées et ateliers de prévention.\n\n9h-12h\, salle
  des fêtes. Gratuit\nInscription à l’année\n\nConseil départemental\
 , informations : 06 30 96 10 72\n\nInscription en ligne : https://demarche
 s.dordogne.fr/cd/seniors-forme/\n
CATEGORIES:Atelier / Stage
LOCATION:Salle des fêtes\, Salle des fêtes\, Saint-Aquilin\, France
GEO:45.1858329;0.49335728
X-APPLE-STRUCTURED-LOCATION;VALUE=URI;X-ADDRESS=Salle des fêtes\, Saint-Aq
 uilin\, France;X-APPLE-RADIUS=100;X-TITLE=Salle des fêtes:geo:45.1858329,
 0.49335728
END:VEVENT
BEGIN:VTIMEZONE
TZID:Europe/Paris
X-LIC-LOCATION:Europe/Paris
BEGIN:STANDARD
DTSTART:20251026T020000
TZOFFSETFROM:+0200
TZOFFSETTO:+0100
TZNAME:CET
END:STANDARD
END:VTIMEZONE
END:VCALENDAR